BEGIN:VCALENDAR
VERSION:2.0
PRODID:-//Battle Memorial Hall - ECPv6.0.10//NONSGML v1.0//EN
CALSCALE:GREGORIAN
METHOD:PUBLISH
X-WR-CALNAME:Battle Memorial Hall
X-ORIGINAL-URL:https://battlememorialhall.co.uk
X-WR-CALDESC:Events for Battle Memorial Hall
REFRESH-INTERVAL;VALUE=DURATION:PT1H
X-Robots-Tag:noindex
X-PUBLISHED-TTL:PT1H
BEGIN:VTIMEZONE
TZID:UTC
BEGIN:STANDARD
TZOFFSETFROM:+0000
TZOFFSETTO:+0000
TZNAME:UTC
DTSTART:20250101T000000
END:STANDARD
END:VTIMEZONE
BEGIN:VEVENT
DTSTART;TZID=UTC:20250717T190000
DTEND;TZID=UTC:20250717T213000
DTSTAMP:20260423T125820
CREATED:20250716T082632Z
LAST-MODIFIED:20250716T082632Z
UID:1735-1752778800-1752787800@battlememorialhall.co.uk
SUMMARY:WOMEN IN INTELLIGENCE
DESCRIPTION:
URL:https://battlememorialhall.co.uk/event/women-in-intelligence/
LOCATION:Battle Memorial Hall\, 81 High Street\, Battle\, East Sussex\, TN33 0AQ\, United Kingdom
END:VEVENT
BEGIN:VEVENT
DTSTART;TZID=UTC:20250718T190000
DTEND;TZID=UTC:20250718T213000
DTSTAMP:20260423T125820
CREATED:20250716T083200Z
LAST-MODIFIED:20250716T083200Z
UID:1737-1752865200-1752874200@battlememorialhall.co.uk
SUMMARY:AN ALPHABET OF STORMS WITH HENRY NORMAL
DESCRIPTION:
URL:https://battlememorialhall.co.uk/event/an-alphabet-of-storms-with-henry-normal/
LOCATION:Battle Memorial Hall\, 81 High Street\, Battle\, East Sussex\, TN33 0AQ\, United Kingdom
END:VEVENT
BEGIN:VEVENT
DTSTART;TZID=UTC:20250719T190000
DTEND;TZID=UTC:20250719T213000
DTSTAMP:20260423T125820
CREATED:20250716T083555Z
LAST-MODIFIED:20250716T083555Z
UID:1740-1752951600-1752960600@battlememorialhall.co.uk
SUMMARY:COME RAIN\, COME SHINE - London Revue Company
DESCRIPTION:
URL:https://battlememorialhall.co.uk/event/come-rain-come-shine-london-revue-company/
LOCATION:Battle Memorial Hall\, 81 High Street\, Battle\, East Sussex\, TN33 0AQ\, United Kingdom
END:VEVENT
BEGIN:VEVENT
DTSTART;TZID=UTC:20250722T190000
DTEND;TZID=UTC:20250722T213000
DTSTAMP:20260423T125820
CREATED:20250717T120353Z
LAST-MODIFIED:20250717T120353Z
UID:1746-1753210800-1753219800@battlememorialhall.co.uk
SUMMARY:APPEARANCES; MEMORY\, HISTORY\, CLOTHES
DESCRIPTION:
URL:https://battlememorialhall.co.uk/event/appearances-memory-history-clothes/
LOCATION:Battle Memorial Hall\, 81 High Street\, Battle\, East Sussex\, TN33 0AQ\, United Kingdom
END:VEVENT
BEGIN:VEVENT
DTSTART;TZID=UTC:20250725T190000
DTEND;TZID=UTC:20250725T220000
DTSTAMP:20260423T125820
CREATED:20250717T120757Z
LAST-MODIFIED:20250717T120757Z
UID:1750-1753470000-1753480800@battlememorialhall.co.uk
SUMMARY:LEKIDDO SINGS; SONGS FROM THE GOLDEN AGE OF JAZZ & SWING
DESCRIPTION:
URL:https://battlememorialhall.co.uk/event/lekiddo-sings-songs-from-the-golden-age-of-jazz-swing/
LOCATION:Battle Memorial Hall\, 81 High Street\, Battle\, East Sussex\, TN33 0AQ\, United Kingdom
END:VEVENT
BEGIN:VEVENT
DTSTART;TZID=UTC:20250726T190000
DTEND;TZID=UTC:20250726T220000
DTSTAMP:20260423T125820
CREATED:20250717T121035Z
LAST-MODIFIED:20250717T121035Z
UID:1752-1753556400-1753567200@battlememorialhall.co.uk
SUMMARY:SCENES FROM THE SAVOY
DESCRIPTION:
URL:https://battlememorialhall.co.uk/event/scenes-from-the-savoy/
LOCATION:Battle Memorial Hall\, 81 High Street\, Battle\, East Sussex\, TN33 0AQ\, United Kingdom
END:VEVENT
BEGIN:VEVENT
DTSTART;TZID=UTC:20250731T193000
DTEND;TZID=UTC:20250731T213000
DTSTAMP:20260423T125820
CREATED:20250425T114533Z
LAST-MODIFIED:20250425T114533Z
UID:1687-1753990200-1753997400@battlememorialhall.co.uk
SUMMARY:Annual General Meeting - Topic of Discussion\, Making the hall work for you.
DESCRIPTION:Open Forum: An opportunity for all those with an Interest in the hall particularly regular users to hear from the Management committee and say what they would like to see changed or improved. \n  \n 
URL:https://battlememorialhall.co.uk/event/annual-general-meeting-topic-of-discussion-making-the-hall-work-for-you/
LOCATION:Battle Memorial Hall\, 81 High Street\, Battle\, East Sussex\, TN33 0AQ\, United Kingdom
ORGANIZER;CN="Battle%20Memorial%20Hall":MAILTO:battlememorialhall@outlook.com
END:VEVENT
END:VCALENDAR