BEGIN:VCALENDAR
VERSION:2.0
PRODID:-//Battle Memorial Hall - ECPv6.0.10//NONSGML v1.0//EN
CALSCALE:GREGORIAN
METHOD:PUBLISH
X-ORIGINAL-URL:https://battlememorialhall.co.uk
X-WR-CALDESC:Events for Battle Memorial Hall
REFRESH-INTERVAL;VALUE=DURATION:PT1H
X-Robots-Tag:noindex
X-PUBLISHED-TTL:PT1H
BEGIN:VTIMEZONE
TZID:UTC
BEGIN:STANDARD
TZOFFSETFROM:+0000
TZOFFSETTO:+0000
TZNAME:UTC
DTSTART:20250101T000000
END:STANDARD
END:VTIMEZONE
BEGIN:VEVENT
DTSTART;TZID=UTC:20250619T193000
DTEND;TZID=UTC:20250619T210000
DTSTAMP:20260423T143223
CREATED:20250606T114906Z
LAST-MODIFIED:20250606T114942Z
UID:1727-1750361400-1750366800@battlememorialhall.co.uk
SUMMARY:Battle and District Historical Society
DESCRIPTION:
URL:https://battlememorialhall.co.uk/event/battle-and-district-historical-society-2/
LOCATION:Battle Memorial Hall\, 81 High Street\, Battle\, East Sussex\, TN33 0AQ\, United Kingdom
END:VEVENT
BEGIN:VEVENT
DTSTART;TZID=UTC:20250621T193000
DTEND;TZID=UTC:20250621T220000
DTSTAMP:20260423T143223
CREATED:20250606T114107Z
LAST-MODIFIED:20250606T114613Z
UID:1724-1750534200-1750543200@battlememorialhall.co.uk
SUMMARY:ASTOR PALM COURT ORCHESTRA
DESCRIPTION:
URL:https://battlememorialhall.co.uk/event/astor-palm-court-orchestra/
LOCATION:Battle Memorial Hall\, 81 High Street\, Battle\, East Sussex\, TN33 0AQ\, United Kingdom
END:VEVENT
END:VCALENDAR