BEGIN:VCALENDAR
VERSION:2.0
PRODID:-//Battle Memorial Hall - ECPv6.0.10//NONSGML v1.0//EN
CALSCALE:GREGORIAN
METHOD:PUBLISH
X-WR-CALNAME:Battle Memorial Hall
X-ORIGINAL-URL:https://battlememorialhall.co.uk
X-WR-CALDESC:Events for Battle Memorial Hall
REFRESH-INTERVAL;VALUE=DURATION:PT1H
X-Robots-Tag:noindex
X-PUBLISHED-TTL:PT1H
BEGIN:VTIMEZONE
TZID:UTC
BEGIN:STANDARD
TZOFFSETFROM:+0000
TZOFFSETTO:+0000
TZNAME:UTC
DTSTART:20230101T000000
END:STANDARD
END:VTIMEZONE
BEGIN:VEVENT
DTSTART;TZID=UTC:20230609T153000
DTEND;TZID=UTC:20230609T190000
DTSTAMP:20260424T220628
CREATED:20230526T114549Z
LAST-MODIFIED:20230526T114601Z
UID:1513-1686324600-1686337200@battlememorialhall.co.uk
SUMMARY:A Resident Consultation on the proposed enhancement to the planned 200 new homes in Blackfriars Battle
DESCRIPTION:
URL:https://battlememorialhall.co.uk/event/a-resident-consultation-on-the-proposed-enhancement-to-the-planned-200-new-homes-in-blackfriars-battle/
LOCATION:Battle Memorial Hall\, 81 High Street\, Battle\, East Sussex\, TN33 0AQ\, United Kingdom
END:VEVENT
BEGIN:VEVENT
DTSTART;TZID=UTC:20230612T100000
DTEND;TZID=UTC:20230614T153000
DTSTAMP:20260424T220628
CREATED:20230526T115043Z
LAST-MODIFIED:20230526T115052Z
UID:1516-1686564000-1686756600@battlememorialhall.co.uk
SUMMARY:Battle Abbey School Art Exhibition\,
DESCRIPTION:
URL:https://battlememorialhall.co.uk/event/battle-abbey-school-art-exhibition/
LOCATION:Battle Memorial Hall\, 81 High Street\, Battle\, East Sussex\, TN33 0AQ\, United Kingdom
END:VEVENT
BEGIN:VEVENT
DTSTART;TZID=UTC:20230629T193000
DTEND;TZID=UTC:20230701T193000
DTSTAMP:20260424T220628
CREATED:20230314T105306Z
LAST-MODIFIED:20230314T105720Z
UID:1421-1688067000-1688239800@battlememorialhall.co.uk
SUMMARY:The Rise And Fall Of Little Voice
DESCRIPTION:
URL:https://battlememorialhall.co.uk/event/the-rise-and-fall-of-little-voicce/
LOCATION:Battle Memorial Hall\, 81 High Street\, Battle\, East Sussex\, TN33 0AQ\, United Kingdom
END:VEVENT
END:VCALENDAR