BEGIN:VCALENDAR
VERSION:2.0
PRODID:-//Battle Memorial Hall - ECPv6.0.10//NONSGML v1.0//EN
CALSCALE:GREGORIAN
METHOD:PUBLISH
X-WR-CALNAME:Battle Memorial Hall
X-ORIGINAL-URL:https://battlememorialhall.co.uk
X-WR-CALDESC:Events for Battle Memorial Hall
REFRESH-INTERVAL;VALUE=DURATION:PT1H
X-Robots-Tag:noindex
X-PUBLISHED-TTL:PT1H
BEGIN:VTIMEZONE
TZID:UTC
BEGIN:STANDARD
TZOFFSETFROM:+0000
TZOFFSETTO:+0000
TZNAME:UTC
DTSTART:20230101T000000
END:STANDARD
END:VTIMEZONE
BEGIN:VEVENT
DTSTART;TZID=UTC:20230510T193000
DTEND;TZID=UTC:20230513T193000
DTSTAMP:20260424T232949
CREATED:20230314T104948Z
LAST-MODIFIED:20230314T104948Z
UID:1413-1683747000-1684006200@battlememorialhall.co.uk
SUMMARY:Me And My Girl
DESCRIPTION:
URL:https://battlememorialhall.co.uk/event/me-and-my-girl/
LOCATION:Battle Memorial Hall\, 81 High Street\, Battle\, East Sussex\, TN33 0AQ\, United Kingdom
END:VEVENT
BEGIN:VEVENT
DTSTART;TZID=UTC:20230528T100000
DTEND;TZID=UTC:20230529T160000
DTSTAMP:20260424T232949
CREATED:20230515T111914Z
LAST-MODIFIED:20230515T111914Z
UID:1505-1685268000-1685376000@battlememorialhall.co.uk
SUMMARY:Battle Photographic Society\, Photo Exhibition
DESCRIPTION:
URL:https://battlememorialhall.co.uk/event/battle-photographic-society-photo-exhibition/
LOCATION:Battle Memorial Hall\, 81 High Street\, Battle\, East Sussex\, TN33 0AQ\, United Kingdom
END:VEVENT
END:VCALENDAR