BEGIN:VCALENDAR
VERSION:2.0
PRODID:-//Battle Memorial Hall - ECPv6.0.10//NONSGML v1.0//EN
CALSCALE:GREGORIAN
METHOD:PUBLISH
X-WR-CALNAME:Battle Memorial Hall
X-ORIGINAL-URL:https://battlememorialhall.co.uk
X-WR-CALDESC:Events for Battle Memorial Hall
REFRESH-INTERVAL;VALUE=DURATION:PT1H
X-Robots-Tag:noindex
X-PUBLISHED-TTL:PT1H
BEGIN:VTIMEZONE
TZID:UTC
BEGIN:STANDARD
TZOFFSETFROM:+0000
TZOFFSETTO:+0000
TZNAME:UTC
DTSTART:20220101T000000
END:STANDARD
END:VTIMEZONE
BEGIN:VEVENT
DTSTART;TZID=UTC:20221112T190000
DTEND;TZID=UTC:20221112T220000
DTSTAMP:20260423T210547
CREATED:20221025T094618Z
LAST-MODIFIED:20221025T101915Z
UID:1319-1668279600-1668290400@battlememorialhall.co.uk
SUMMARY:FILM NIGHT - TOP GUN MAVERICK
DESCRIPTION:
URL:https://battlememorialhall.co.uk/event/1319/
LOCATION:Battle Memorial Hall\, 81 High Street\, Battle\, East Sussex\, TN33 0AQ\, United Kingdom
END:VEVENT
BEGIN:VEVENT
DTSTART;TZID=UTC:20221026T190000
DTEND;TZID=UTC:20221026T220000
DTSTAMP:20260423T210547
CREATED:20221018T104743Z
LAST-MODIFIED:20221018T104743Z
UID:1297-1666810800-1666821600@battlememorialhall.co.uk
SUMMARY:The Railway Children Return
DESCRIPTION:
URL:https://battlememorialhall.co.uk/event/the-railway-children-return/
LOCATION:Battle Memorial Hall\, 81 High Street\, Battle\, East Sussex\, TN33 0AQ\, United Kingdom
ATTACH;FMTTYPE=image/jpeg:https://battlememorialhall.co.uk/wp-content/uploads/2022/09/Railwaykids-scaled.jpg
END:VEVENT
BEGIN:VEVENT
DTSTART;TZID=UTC:20221020T110000
DTEND;TZID=UTC:20221020T120000
DTSTAMP:20260423T210547
CREATED:20221019T100554Z
LAST-MODIFIED:20221019T105854Z
UID:1311-1666263600-1666267200@battlememorialhall.co.uk
SUMMARY:Zumba Gold
DESCRIPTION:
URL:https://battlememorialhall.co.uk/event/zumba-gold/
LOCATION:Battle Memorial Hall\, 81 High Street\, Battle\, East Sussex\, TN33 0AQ\, United Kingdom
END:VEVENT
END:VCALENDAR