BEGIN:VCALENDAR
VERSION:2.0
PRODID:-//Battle Memorial Hall - ECPv6.0.10//NONSGML v1.0//EN
CALSCALE:GREGORIAN
METHOD:PUBLISH
X-ORIGINAL-URL:https://battlememorialhall.co.uk
X-WR-CALDESC:Events for Battle Memorial Hall
REFRESH-INTERVAL;VALUE=DURATION:PT1H
X-Robots-Tag:noindex
X-PUBLISHED-TTL:PT1H
BEGIN:VTIMEZONE
TZID:UTC
BEGIN:STANDARD
TZOFFSETFROM:+0000
TZOFFSETTO:+0000
TZNAME:UTC
DTSTART:20260101T000000
END:STANDARD
END:VTIMEZONE
BEGIN:VEVENT
DTSTART;TZID=UTC:20260320T183000
DTEND;TZID=UTC:20260320T213000
DTSTAMP:20260423T153544
CREATED:20260218T162107Z
LAST-MODIFIED:20260218T162107Z
UID:2056-1774031400-1774042200@battlememorialhall.co.uk
SUMMARY:Cinema night: Power Station
DESCRIPTION:Tickets £5.00 available from the Hall\, British Made and Eventbrite \nWe are pleased to present this screening in collaboration with Battle Solar Town and Energise Sussex Coast. An inspiring event for anyone interested in sustainability\, community action\, or positive local change. \nThe film starts at 7pm.\nFree\, impartial solar assessment for your home available from 6pm. \nBattle Memorial Hall – Cinema Night: Power Station Tickets\, Fri\, 20 Mar 2026 at 18:30 | Eventbrite \n 
URL:https://battlememorialhall.co.uk/event/cinema-night-power-station/
END:VEVENT
BEGIN:VEVENT
DTSTART;TZID=UTC:20260325T190000
DTEND;TZID=UTC:20260325T213000
DTSTAMP:20260423T153544
CREATED:20260304T174346Z
LAST-MODIFIED:20260304T174346Z
UID:2063-1774465200-1774474200@battlememorialhall.co.uk
SUMMARY:Film night - A Haunting in Venice
DESCRIPTION:
URL:https://battlememorialhall.co.uk/event/film-night-a-haunting-in-venice/
END:VEVENT
BEGIN:VEVENT
DTSTART;TZID=UTC:20260425T150000
DTEND;TZID=UTC:20260425T170000
DTSTAMP:20260423T153544
CREATED:20260417T102041Z
LAST-MODIFIED:20260417T102041Z
UID:2099-1777129200-1777136400@battlememorialhall.co.uk
SUMMARY:Family Rave with DJ Tommy-K
DESCRIPTION:
URL:https://battlememorialhall.co.uk/event/family-rave-with-dj-tommy-k/
END:VEVENT
BEGIN:VEVENT
DTSTART;TZID=UTC:20260429T190000
DTEND;TZID=UTC:20260429T213000
DTSTAMP:20260423T153544
CREATED:20260327T174350Z
LAST-MODIFIED:20260327T174350Z
UID:2081-1777489200-1777498200@battlememorialhall.co.uk
SUMMARY:Film night -The Choral
DESCRIPTION:
URL:https://battlememorialhall.co.uk/event/film-night-the-choral/
END:VEVENT
END:VCALENDAR