BEGIN:VCALENDAR
VERSION:2.0
PRODID:-//Battle Memorial Hall - ECPv6.0.10//NONSGML v1.0//EN
CALSCALE:GREGORIAN
METHOD:PUBLISH
X-ORIGINAL-URL:https://battlememorialhall.co.uk
X-WR-CALDESC:Events for Battle Memorial Hall
REFRESH-INTERVAL;VALUE=DURATION:PT1H
X-Robots-Tag:noindex
X-PUBLISHED-TTL:PT1H
BEGIN:VTIMEZONE
TZID:UTC
BEGIN:STANDARD
TZOFFSETFROM:+0000
TZOFFSETTO:+0000
TZNAME:UTC
DTSTART:20250101T000000
END:STANDARD
END:VTIMEZONE
BEGIN:VEVENT
DTSTART;TZID=UTC:20251111T110000
DTEND;TZID=UTC:20251111T120000
DTSTAMP:20260423T095647
CREATED:20251111T181856Z
LAST-MODIFIED:20251111T183150Z
UID:1894-1762858800-1762862400@battlememorialhall.co.uk
SUMMARY:Remembrance 11 11 2025
DESCRIPTION:
URL:https://battlememorialhall.co.uk/event/remembrance-11-11-2025/
END:VEVENT
BEGIN:VEVENT
DTSTART;TZID=UTC:20251119T190000
DTEND;TZID=UTC:20251122T220000
DTSTAMP:20260423T095647
CREATED:20250521T104452Z
LAST-MODIFIED:20250521T104501Z
UID:1712-1763578800-1763848800@battlememorialhall.co.uk
SUMMARY:A Musical Thriller - Sweeney Todd
DESCRIPTION:
URL:https://battlememorialhall.co.uk/event/a-musical-thriller-sweeney-todd/
LOCATION:Battle Memorial Hall\, 81 High Street\, Battle\, East Sussex\, TN33 0AQ\, United Kingdom
END:VEVENT
BEGIN:VEVENT
DTSTART;TZID=UTC:20251126T073000
DTEND;TZID=UTC:20251126T213000
DTSTAMP:20260423T095647
CREATED:20251101T170507Z
LAST-MODIFIED:20251101T170507Z
UID:1834-1764142200-1764192600@battlememorialhall.co.uk
SUMMARY:Battle Community Cinema
DESCRIPTION:
URL:https://battlememorialhall.co.uk/event/battle-community-cinema/
END:VEVENT
BEGIN:VEVENT
DTSTART;TZID=UTC:20260109T193000
DTEND;TZID=UTC:20260109T213000
DTSTAMP:20260423T095647
CREATED:20251201T134722Z
LAST-MODIFIED:20251201T134722Z
UID:1956-1767987000-1767994200@battlememorialhall.co.uk
SUMMARY:Community Cinema - Downton Abbey: The Grand Finale
DESCRIPTION:Doors open at 19.00
URL:https://battlememorialhall.co.uk/event/community-cinema-downton-abbey-the-grand-finale/
END:VEVENT
BEGIN:VEVENT
DTSTART;TZID=UTC:20260225T190000
DTEND;TZID=UTC:20260225T213000
DTSTAMP:20260423T095647
CREATED:20260130T145828Z
LAST-MODIFIED:20260130T145828Z
UID:2022-1772046000-1772055000@battlememorialhall.co.uk
SUMMARY:Community Cinema - Roofman
DESCRIPTION:
URL:https://battlememorialhall.co.uk/event/community-cinema-roofman/
END:VEVENT
BEGIN:VEVENT
DTSTART;TZID=UTC:20260301T150000
DTEND;TZID=UTC:20260301T170000
DTSTAMP:20260423T095647
CREATED:20260130T150147Z
LAST-MODIFIED:20260218T165153Z
UID:2024-1772377200-1772384400@battlememorialhall.co.uk
SUMMARY:Radio play with afternoon tea and live piano
DESCRIPTION:This is a fundraising event for Battle Memorial Hall to help us continue with our improvements programme.  Tickets £12.50 available at the Hall. Event includes live piano and a comedic radio play.
URL:https://battlememorialhall.co.uk/event/radio-play-with-afternoon-tea-and-live-piano/
END:VEVENT
BEGIN:VEVENT
DTSTART;TZID=UTC:20260305T193000
DTEND;TZID=UTC:20260305T220000
DTSTAMP:20260423T095647
CREATED:20260203T170607Z
LAST-MODIFIED:20260203T170607Z
UID:2035-1772739000-1772748000@battlememorialhall.co.uk
SUMMARY:BatTS One Man Two Guvnors
DESCRIPTION:
URL:https://battlememorialhall.co.uk/event/batts-one-man-two-guvnors-2/
END:VEVENT
BEGIN:VEVENT
DTSTART;TZID=UTC:20260306T193000
DTEND;TZID=UTC:20260306T220000
DTSTAMP:20260423T095647
CREATED:20260203T165027Z
LAST-MODIFIED:20260203T170027Z
UID:2027-1772825400-1772834400@battlememorialhall.co.uk
SUMMARY:BatTS One Man\, Two Guvnors
DESCRIPTION:
URL:https://battlememorialhall.co.uk/event/batts-one-man-two-guvnors/
END:VEVENT
BEGIN:VEVENT
DTSTART;TZID=UTC:20260307T143000
DTEND;TZID=UTC:20260307T170000
DTSTAMP:20260423T095647
CREATED:20260203T170217Z
LAST-MODIFIED:20260203T170217Z
UID:2031-1772893800-1772902800@battlememorialhall.co.uk
SUMMARY:One Man Two Guvnors
DESCRIPTION:
URL:https://battlememorialhall.co.uk/event/one-man-two-guvnors/
END:VEVENT
BEGIN:VEVENT
DTSTART;TZID=UTC:20260307T193000
DTEND;TZID=UTC:20260307T220000
DTSTAMP:20260423T095647
CREATED:20260203T170325Z
LAST-MODIFIED:20260203T170325Z
UID:2033-1772911800-1772920800@battlememorialhall.co.uk
SUMMARY:One Man Two Guvnors
DESCRIPTION:
URL:https://battlememorialhall.co.uk/event/one-man-two-guvnors-2/
END:VEVENT
BEGIN:VEVENT
DTSTART;TZID=UTC:20260320T183000
DTEND;TZID=UTC:20260320T213000
DTSTAMP:20260423T095647
CREATED:20260218T162107Z
LAST-MODIFIED:20260218T162107Z
UID:2056-1774031400-1774042200@battlememorialhall.co.uk
SUMMARY:Cinema night: Power Station
DESCRIPTION:Tickets £5.00 available from the Hall\, British Made and Eventbrite \nWe are pleased to present this screening in collaboration with Battle Solar Town and Energise Sussex Coast. An inspiring event for anyone interested in sustainability\, community action\, or positive local change. \nThe film starts at 7pm.\nFree\, impartial solar assessment for your home available from 6pm. \nBattle Memorial Hall – Cinema Night: Power Station Tickets\, Fri\, 20 Mar 2026 at 18:30 | Eventbrite \n 
URL:https://battlememorialhall.co.uk/event/cinema-night-power-station/
END:VEVENT
BEGIN:VEVENT
DTSTART;TZID=UTC:20260325T190000
DTEND;TZID=UTC:20260325T213000
DTSTAMP:20260423T095647
CREATED:20260304T174346Z
LAST-MODIFIED:20260304T174346Z
UID:2063-1774465200-1774474200@battlememorialhall.co.uk
SUMMARY:Film night - A Haunting in Venice
DESCRIPTION:
URL:https://battlememorialhall.co.uk/event/film-night-a-haunting-in-venice/
END:VEVENT
BEGIN:VEVENT
DTSTART;TZID=UTC:20260425T150000
DTEND;TZID=UTC:20260425T170000
DTSTAMP:20260423T095647
CREATED:20260417T102041Z
LAST-MODIFIED:20260417T102041Z
UID:2099-1777129200-1777136400@battlememorialhall.co.uk
SUMMARY:Family Rave with DJ Tommy-K
DESCRIPTION:
URL:https://battlememorialhall.co.uk/event/family-rave-with-dj-tommy-k/
END:VEVENT
BEGIN:VEVENT
DTSTART;TZID=UTC:20260429T190000
DTEND;TZID=UTC:20260429T213000
DTSTAMP:20260423T095647
CREATED:20260327T174350Z
LAST-MODIFIED:20260327T174350Z
UID:2081-1777489200-1777498200@battlememorialhall.co.uk
SUMMARY:Film night -The Choral
DESCRIPTION:
URL:https://battlememorialhall.co.uk/event/film-night-the-choral/
END:VEVENT
END:VCALENDAR