BEGIN:VCALENDAR
VERSION:2.0
PRODID:-//Battle Memorial Hall - ECPv6.0.10//NONSGML v1.0//EN
CALSCALE:GREGORIAN
METHOD:PUBLISH
X-WR-CALNAME:Battle Memorial Hall
X-ORIGINAL-URL:https://battlememorialhall.co.uk
X-WR-CALDESC:Events for Battle Memorial Hall
REFRESH-INTERVAL;VALUE=DURATION:PT1H
X-Robots-Tag:noindex
X-PUBLISHED-TTL:PT1H
BEGIN:VTIMEZONE
TZID:UTC
BEGIN:STANDARD
TZOFFSETFROM:+0000
TZOFFSETTO:+0000
TZNAME:UTC
DTSTART:20260101T000000
END:STANDARD
END:VTIMEZONE
BEGIN:VEVENT
DTSTART;TZID=UTC:20260305T193000
DTEND;TZID=UTC:20260305T220000
DTSTAMP:20260423T142208
CREATED:20260203T170607Z
LAST-MODIFIED:20260203T170607Z
UID:2035-1772739000-1772748000@battlememorialhall.co.uk
SUMMARY:BatTS One Man Two Guvnors
DESCRIPTION:
URL:https://battlememorialhall.co.uk/event/batts-one-man-two-guvnors-2/
END:VEVENT
END:VCALENDAR