BEGIN:VCALENDAR
VERSION:2.0
PRODID:-//Battle Memorial Hall - ECPv6.0.10//NONSGML v1.0//EN
CALSCALE:GREGORIAN
METHOD:PUBLISH
X-ORIGINAL-URL:https://battlememorialhall.co.uk
X-WR-CALDESC:Events for Battle Memorial Hall
REFRESH-INTERVAL;VALUE=DURATION:PT1H
X-Robots-Tag:noindex
X-PUBLISHED-TTL:PT1H
BEGIN:VTIMEZONE
TZID:UTC
BEGIN:STANDARD
TZOFFSETFROM:+0000
TZOFFSETTO:+0000
TZNAME:UTC
DTSTART:20250101T000000
END:STANDARD
END:VTIMEZONE
BEGIN:VEVENT
DTSTART;TZID=UTC:20251111T110000
DTEND;TZID=UTC:20251111T120000
DTSTAMP:20260423T124327
CREATED:20251111T181856Z
LAST-MODIFIED:20251111T183150Z
UID:1894-1762858800-1762862400@battlememorialhall.co.uk
SUMMARY:Remembrance 11 11 2025
DESCRIPTION:
URL:https://battlememorialhall.co.uk/event/remembrance-11-11-2025/
END:VEVENT
END:VCALENDAR