BEGIN:VCALENDAR
VERSION:2.0
PRODID:-//Battle Memorial Hall - ECPv6.0.10//NONSGML v1.0//EN
CALSCALE:GREGORIAN
METHOD:PUBLISH
X-WR-CALNAME:Battle Memorial Hall
X-ORIGINAL-URL:https://battlememorialhall.co.uk
X-WR-CALDESC:Events for Battle Memorial Hall
REFRESH-INTERVAL;VALUE=DURATION:PT1H
X-Robots-Tag:noindex
X-PUBLISHED-TTL:PT1H
BEGIN:VTIMEZONE
TZID:UTC
BEGIN:STANDARD
TZOFFSETFROM:+0000
TZOFFSETTO:+0000
TZNAME:UTC
DTSTART:20250101T000000
END:STANDARD
END:VTIMEZONE
BEGIN:VEVENT
DTSTART;TZID=UTC:20250525T100000
DTEND;TZID=UTC:20250526T160000
DTSTAMP:20260423T153846
CREATED:20250509T113650Z
LAST-MODIFIED:20250509T114246Z
UID:1696-1748167200-1748275200@battlememorialhall.co.uk
SUMMARY:Battle Photographic Society - Photo Exhibition
DESCRIPTION:
URL:https://battlememorialhall.co.uk/event/battle-photographic-society-photo-exhibition-2/
LOCATION:Battle Memorial Hall\, 81 High Street\, Battle\, East Sussex\, TN33 0AQ\, United Kingdom
END:VEVENT
END:VCALENDAR