BEGIN:VCALENDAR
VERSION:2.0
PRODID:-//Battle Memorial Hall - ECPv6.0.10//NONSGML v1.0//EN
CALSCALE:GREGORIAN
METHOD:PUBLISH
X-ORIGINAL-URL:https://battlememorialhall.co.uk
X-WR-CALDESC:Events for Battle Memorial Hall
REFRESH-INTERVAL;VALUE=DURATION:PT1H
X-Robots-Tag:noindex
X-PUBLISHED-TTL:PT1H
BEGIN:VTIMEZONE
TZID:UTC
BEGIN:STANDARD
TZOFFSETFROM:+0000
TZOFFSETTO:+0000
TZNAME:UTC
DTSTART:20250101T000000
END:STANDARD
END:VTIMEZONE
BEGIN:VEVENT
DTSTART;TZID=UTC:20250515T100000
DTEND;TZID=UTC:20250515T160000
DTSTAMP:20260423T170704
CREATED:20250425T113006Z
LAST-MODIFIED:20250425T113006Z
UID:1681-1747303200-1747324800@battlememorialhall.co.uk
SUMMARY:
DESCRIPTION:15th May 2025 in our St Valery Room
URL:https://battlememorialhall.co.uk/event/1681/
LOCATION:Battle Memorial Hall\, 81 High Street\, Battle\, East Sussex\, TN33 0AQ\, United Kingdom
END:VEVENT
BEGIN:VEVENT
DTSTART;TZID=UTC:20250515T100000
DTEND;TZID=UTC:20250515T160000
DTSTAMP:20260423T170704
CREATED:20250425T113351Z
LAST-MODIFIED:20250425T113513Z
UID:1670-1747303200-1747324800@battlememorialhall.co.uk
SUMMARY:Coming to Battle
DESCRIPTION:
URL:https://battlememorialhall.co.uk/event/coming-to-battle/
LOCATION:Battle Memorial Hall\, 81 High Street\, Battle\, East Sussex\, TN33 0AQ\, United Kingdom
END:VEVENT
END:VCALENDAR