BEGIN:VCALENDAR
VERSION:2.0
PRODID:-//Battle Memorial Hall - ECPv6.0.10//NONSGML v1.0//EN
CALSCALE:GREGORIAN
METHOD:PUBLISH
X-ORIGINAL-URL:https://battlememorialhall.co.uk
X-WR-CALDESC:Events for Battle Memorial Hall
REFRESH-INTERVAL;VALUE=DURATION:PT1H
X-Robots-Tag:noindex
X-PUBLISHED-TTL:PT1H
BEGIN:VTIMEZONE
TZID:UTC
BEGIN:STANDARD
TZOFFSETFROM:+0000
TZOFFSETTO:+0000
TZNAME:UTC
DTSTART:20230101T000000
END:STANDARD
END:VTIMEZONE
BEGIN:VEVENT
DTSTART;TZID=UTC:20230719T190000
DTEND;TZID=UTC:20230719T220000
DTSTAMP:20260424T215752
CREATED:20230630T115755Z
LAST-MODIFIED:20230630T115755Z
UID:1529-1689793200-1689804000@battlememorialhall.co.uk
SUMMARY:Eric Ravilious Drawn to War
DESCRIPTION:
URL:https://battlememorialhall.co.uk/event/eric-ravilious-drawn-to-war/
LOCATION:Battle Memorial Hall\, 81 High Street\, Battle\, East Sussex\, TN33 0AQ\, United Kingdom
END:VEVENT
END:VCALENDAR